BEGIN:VCALENDAR
VERSION:2.0
PRODID:icalendar-ruby
CALSCALE:GREGORIAN
METHOD:PUBLISH
BEGIN:VEVENT
DTSTAMP:20260423T143827Z
UID:24-1423557@standrewsmemorial.ca
DTSTART:20251127T000000Z
DTEND:20251127T010000Z
CLASS:PUBLIC
CREATED:20260423T080410
DESCRIPTION:
LAST-MODIFIED:20260423T080410
LOCATION:St. Andrew's Basement
SUMMARY:Food Cupboard Open
URL;VALUE=URI:https://www.standrewsmemorial.ca/events/food-cupboard-open--2
 4/2025-11-26
ATTACH;FILENAME=Cupboard (1500x784).jpg;FMTTYPE=image/jpeg:https://dq5pwpg1
 q8ru0.cloudfront.net/2024/04/16/01/46/42/0e07ad69-64a8-4047-9a71-c6c21f9ed
 1a0/Cupboard%20(1500x784).jpg
END:VEVENT
END:VCALENDAR
